BEGIN:VCALENDAR
VERSION:2.0
PRODID:-//wp-events-plugin.com//7.2.2.3//EN
BEGIN:VEVENT
UID:11082@alte-werkstatt.org
DTSTART:20260724T080000Z
DTEND:20260724T100000Z
DTSTAMP:20260302T143702Z
URL:http://www.alte-werkstatt.org/veranstaltungen/sommertanzwoche-fuer-kin
 der-5-8-jahre-2026-07-24/
SUMMARY:SommerTanzWoche für Kinder (6 - 10 Jahre)
DESCRIPTION:10:00 - 12:00
CATEGORIES:Humitsch Leonie
END:VEVENT
END:VCALENDAR