BEGIN:VCALENDAR
VERSION:2.0
PRODID:-//wp-events-plugin.com//7.2.2.3//EN
BEGIN:VEVENT
UID:11069@alte-werkstatt.org
DTSTART:20260423T073000Z
DTEND:20260423T090000Z
DTSTAMP:20260330T090128Z
URL:http://www.alte-werkstatt.org/veranstaltungen/singend-in-die-lebensfre
 ude-2-2026-04-23/
SUMMARY:Singend in die Lebensfreude
DESCRIPTION:09:30 - 11:00
CATEGORIES:Diverse
END:VEVENT
END:VCALENDAR