BEGIN:VCALENDAR
VERSION:2.0
PRODID:-//wp-events-plugin.com//7.2.2.3//EN
BEGIN:VEVENT
UID:2531@alte-werkstatt.org
DTSTART;TZID=Europe/Vienna:20170622T150000
DTEND;TZID=Europe/Vienna:20170622T161500
DTSTAMP:20170213T105840Z
URL:http://www.alte-werkstatt.org/veranstaltungen/shaolin-kung-fu-ab-10-ja
 hre-4-2017-06-22/
SUMMARY:Shaolin Kung Fu (ab 10 Jahre)
DESCRIPTION:15:00 - 16:15\nShaolin Kung Fu – die Kampfkunst der Shaolin M
 önche aus China\, unterrichtet für Kinder und Jugendliche.
CATEGORIES:Pfaffenberger Marc
END:VEVENT
BEGIN:VTIMEZONE
TZID:Europe/Vienna
X-LIC-LOCATION:Europe/Vienna
BEGIN:DAYLIGHT
DTSTART:20170326T030000
TZOFFSETFROM:+0100
TZOFFSETTO:+0200
TZNAME:CEST
END:DAYLIGHT
END:VTIMEZONE
END:VCALENDAR