BEGIN:VCALENDAR
VERSION:2.0
PRODID:-//wp-events-plugin.com//7.2.2.3//EN
BEGIN:VEVENT
UID:2513@alte-werkstatt.org
DTSTART;TZID=Europe/Vienna:20170216T150000
DTEND;TZID=Europe/Vienna:20170216T161500
DTSTAMP:20170213T105840Z
URL:http://www.alte-werkstatt.org/veranstaltungen/shaolin-kung-fu-ab-10-ja
 hre-4-2017-02-16/
SUMMARY:Shaolin Kung Fu (ab 10 Jahre)
DESCRIPTION:15:00 - 16:15\nShaolin Kung Fu – die Kampfkunst der Shaolin M
 önche aus China\, unterrichtet für Kinder und Jugendliche.
CATEGORIES:Pfaffenberger Marc
END:VEVENT
BEGIN:VTIMEZONE
TZID:Europe/Vienna
X-LIC-LOCATION:Europe/Vienna
BEGIN:STANDARD
DTSTART:20161030T020000
TZOFFSETFROM:+0200
TZOFFSETTO:+0100
TZNAME:CET
END:STANDARD
END:VTIMEZONE
END:VCALENDAR