BEGIN:VCALENDAR
VERSION:2.0
PRODID:-//wp-events-plugin.com//7.2.2.3//EN
BEGIN:VEVENT
UID:1241@alte-werkstatt.org
DTSTART;TZID=Europe/Vienna:20160630T150000
DTEND;TZID=Europe/Vienna:20160630T163000
DTSTAMP:20160303T171432Z
URL:http://www.alte-werkstatt.org/veranstaltungen/shaolin-kung-fu-ab-10-ja
 hre-2016-06-30/
SUMMARY:Shaolin Kung Fu (ab 10 Jahre)
DESCRIPTION:15:00 - 16:30\nDie Kampfkunst der Shaolin Mönche aus China\, u
 nterrichtet für Jugendliche. Kung Fu ist die dynamischste Disziplin der S
 haolin Mönche. Dynamisch meint\, deine ganze Energie\, Geschwindigkeit\, 
 Kraft und auch innere Harmonie nach außen bringen.
CATEGORIES:Pfaffenberger Marc
END:VEVENT
BEGIN:VTIMEZONE
TZID:Europe/Vienna
X-LIC-LOCATION:Europe/Vienna
BEGIN:DAYLIGHT
DTSTART:20160327T030000
TZOFFSETFROM:+0100
TZOFFSETTO:+0200
TZNAME:CEST
END:DAYLIGHT
END:VTIMEZONE
END:VCALENDAR