BEGIN:VCALENDAR
VERSION:2.0
PRODID:-//wp-events-plugin.com//7.2.2.3//EN
BEGIN:VEVENT
UID:2511@alte-werkstatt.org
DTSTART;TZID=Europe/Vienna:20170622T140000
DTEND;TZID=Europe/Vienna:20170622T150000
DTSTAMP:20170213T105029Z
URL:http://www.alte-werkstatt.org/veranstaltungen/shaolin-kung-fu-6-bis-10
 -jahre-3-2017-06-22/
SUMMARY:Shaolin Kung Fu (6 bis 10 Jahre)
DESCRIPTION:14:00 - 15:00 Uhr\nShaolin Kung Fu – die Kampfkunst der Shaol
 in Mönche aus China\, unterrichtet für Kinder und Jugendliche.
CATEGORIES:Pfaffenberger Marc
END:VEVENT
BEGIN:VTIMEZONE
TZID:Europe/Vienna
X-LIC-LOCATION:Europe/Vienna
BEGIN:DAYLIGHT
DTSTART:20170326T030000
TZOFFSETFROM:+0100
TZOFFSETTO:+0200
TZNAME:CEST
END:DAYLIGHT
END:VTIMEZONE
END:VCALENDAR