BEGIN:VCALENDAR
VERSION:2.0
PRODID:-//wp-events-plugin.com//7.2.2.3//EN
BEGIN:VEVENT
UID:2079@alte-werkstatt.org
DTSTART;TZID=Europe/Vienna:20160908T140000
DTEND;TZID=Europe/Vienna:20160908T150000
DTSTAMP:20160905T131513Z
URL:http://www.alte-werkstatt.org/veranstaltungen/shaolin-kung-fu-6-bis-10
 -jahre-2016-09-08/
SUMMARY:Shaolin Kung Fu (6 bis 10 Jahre)
DESCRIPTION:14:00 - 15:00\nShaolin Kung Fu – die Kampfkunst der Shaolin M
 önche aus China\, unterrichtet für Kinder und Jugendliche. Kung Fu ist d
 ie dynamischste Disziplin der Shaolin Mönche. Dynamisch meint\, deine gan
 ze Energie\, Geschwindigkeit\, Kraft und auch innere Harmonie nach außen 
 bringen.
CATEGORIES:Pfaffenberger Marc
END:VEVENT
BEGIN:VTIMEZONE
TZID:Europe/Vienna
X-LIC-LOCATION:Europe/Vienna
BEGIN:DAYLIGHT
DTSTART:20160327T030000
TZOFFSETFROM:+0100
TZOFFSETTO:+0200
TZNAME:CEST
END:DAYLIGHT
END:VTIMEZONE
END:VCALENDAR