BEGIN:VCALENDAR
VERSION:2.0
PRODID:-//wp-events-plugin.com//7.2.2.3//EN
BEGIN:VEVENT
UID:2119@alte-werkstatt.org
DTSTART;TZID=Europe/Vienna:20170126T140000
DTEND;TZID=Europe/Vienna:20170126T150000
DTSTAMP:20160905T132448Z
URL:http://www.alte-werkstatt.org/veranstaltungen/shaolin-kung-fu-6-bis-10
 -jahre-2-2017-01-26/
SUMMARY:Shaolin Kung Fu (6 bis 10 Jahre)
DESCRIPTION:14:00 - 15:00\nShaolin Kung Fu – die Kampfkunst der Shaolin M
 önche aus China\, unterrichtet für Kinder und Jugendliche. Kung Fu ist d
 ie dynamischste Disziplin der Shaolin Mönche. Dynamisch meint\, deine gan
 ze Energie\, Geschwindigkeit\, Kraft und auch innere Harmonie nach außen 
 bringen.
CATEGORIES:Pfaffenberger Marc
END:VEVENT
BEGIN:VTIMEZONE
TZID:Europe/Vienna
X-LIC-LOCATION:Europe/Vienna
BEGIN:STANDARD
DTSTART:20161030T020000
TZOFFSETFROM:+0200
TZOFFSETTO:+0100
TZNAME:CET
END:STANDARD
END:VTIMEZONE
END:VCALENDAR