BEGIN:VCALENDAR
VERSION:2.0
PRODID:-//wp-events-plugin.com//7.2.2.3//EN
BEGIN:VEVENT
UID:1517@alte-werkstatt.org
DTSTART;TZID=Europe/Vienna:20161020T170000
DTEND;TZID=Europe/Vienna:20161020T210000
DTSTAMP:20160907T194214Z
URL:http://www.alte-werkstatt.org/veranstaltungen/schamanischer-heil-und-k
 raftkreis/
SUMMARY:Schamanischer Heil- und Kraftkreis
DESCRIPTION:18:00 - 21:00\nSeit langem haben Schamanen und Medizinmänner H
 eilkreise veranstaltet. Es ist eine uralte Tradition. Sie wirken sehr kraf
 tvoll\, auf Körper\, Geist und Seele.\nDieser Abend soll  für dich und d
 eine  Seele eine Insel der Kraft in unserem immer mehr gestressten Alltag 
 sein.
CATEGORIES:Steindl Edith
END:VEVENT
BEGIN:VTIMEZONE
TZID:Europe/Vienna
X-LIC-LOCATION:Europe/Vienna
BEGIN:DAYLIGHT
DTSTART:20160327T030000
TZOFFSETFROM:+0100
TZOFFSETTO:+0200
TZNAME:CEST
END:DAYLIGHT
END:VTIMEZONE
END:VCALENDAR