BEGIN:VCALENDAR
VERSION:2.0
PRODID:-//wp-events-plugin.com//7.2.2.3//EN
BEGIN:VEVENT
UID:11217@alte-werkstatt.org
DTSTART:20260621T140000Z
DTEND:20260621T183000Z
DTSTAMP:20260410T100941Z
URL:http://www.alte-werkstatt.org/veranstaltungen/samira/
SUMMARY:Samira
DESCRIPTION:16:00 - 20:30
CATEGORIES:Diverse
END:VEVENT
END:VCALENDAR