BEGIN:VCALENDAR
VERSION:2.0
PRODID:-//wp-events-plugin.com//7.2.2.3//EN
BEGIN:VEVENT
UID:11194@alte-werkstatt.org
DTSTART:20260216T053000Z
DTEND:20260216T063000Z
DTSTAMP:20260212T081256Z
URL:http://www.alte-werkstatt.org/veranstaltungen/qi-gong-kurs-winter-2-20
 26-02-09-2026-02-16/
SUMMARY:Qi Gong Kurs - Winter
DESCRIPTION:07:30 - 08:30
CATEGORIES:Lavigne Geneviève
END:VEVENT
END:VCALENDAR