BEGIN:VCALENDAR
VERSION:2.0
PRODID:-//wp-events-plugin.com//7.2.2.3//EN
BEGIN:VEVENT
UID:1522@alte-werkstatt.org
DTSTART;TZID=Europe/Vienna:20170127T153000
DTEND;TZID=Europe/Vienna:20170127T163000
DTSTAMP:20160728T092218Z
URL:http://www.alte-werkstatt.org/veranstaltungen/puppentheater-fuer-kinde
 r-8/
SUMMARY:Puppentheater für Kinder
DESCRIPTION:15:30 - 16:30\nStoffel und die Eisprinzessin
CATEGORIES:Duit Karin
END:VEVENT
BEGIN:VTIMEZONE
TZID:Europe/Vienna
X-LIC-LOCATION:Europe/Vienna
BEGIN:STANDARD
DTSTART:20161030T020000
TZOFFSETFROM:+0200
TZOFFSETTO:+0100
TZNAME:CET
END:STANDARD
END:VTIMEZONE
END:VCALENDAR