BEGIN:VCALENDAR
VERSION:2.0
PRODID:-//wp-events-plugin.com//7.2.2.3//EN
BEGIN:VEVENT
UID:1519@alte-werkstatt.org
DTSTART;TZID=Europe/Vienna:20161028T153000
DTEND;TZID=Europe/Vienna:20161028T163000
DTSTAMP:20160728T091751Z
URL:http://www.alte-werkstatt.org/veranstaltungen/puppentheater-fuer-kinde
 r-5/
SUMMARY:Puppentheater für Kinder
DESCRIPTION:15:30 - 16:30\nStoffel und der kleine Ausreißer
CATEGORIES:Duit Karin
END:VEVENT
BEGIN:VTIMEZONE
TZID:Europe/Vienna
X-LIC-LOCATION:Europe/Vienna
BEGIN:DAYLIGHT
DTSTART:20160327T030000
TZOFFSETFROM:+0100
TZOFFSETTO:+0200
TZNAME:CEST
END:DAYLIGHT
END:VTIMEZONE
END:VCALENDAR