BEGIN:VCALENDAR
VERSION:2.0
PRODID:-//wp-events-plugin.com//7.2.2.3//EN
BEGIN:VEVENT
UID:1740@alte-werkstatt.org
DTSTART;TZID=Europe/Vienna:20161016T110000
DTEND;TZID=Europe/Vienna:20161016T120000
DTSTAMP:20160803T104302Z
URL:http://www.alte-werkstatt.org/veranstaltungen/puppentheater-fuer-kinde
 r-12/
SUMMARY:Puppentheater für Kinder
DESCRIPTION:11:00 - 12:00\nDie 3 kleinen Schweinchen
CATEGORIES:Duit Karin
END:VEVENT
BEGIN:VTIMEZONE
TZID:Europe/Vienna
X-LIC-LOCATION:Europe/Vienna
BEGIN:DAYLIGHT
DTSTART:20160327T030000
TZOFFSETFROM:+0100
TZOFFSETTO:+0200
TZNAME:CEST
END:DAYLIGHT
END:VTIMEZONE
END:VCALENDAR