BEGIN:VCALENDAR
VERSION:2.0
PRODID:-//wp-events-plugin.com//7.2.2.3//EN
BEGIN:VEVENT
UID:10896@alte-werkstatt.org
DTSTART;TZID=Europe/Vienna:20260115T193000
DTEND;TZID=Europe/Vienna:20260115T213000
DTSTAMP:20251126T102554Z
URL:http://www.alte-werkstatt.org/veranstaltungen/playful-improvisation/
SUMMARY:Playful Improvisation
DESCRIPTION:19:30 - 21:30
CATEGORIES:Diverse
END:VEVENT
BEGIN:VTIMEZONE
TZID:Europe/Vienna
X-LIC-LOCATION:Europe/Vienna
BEGIN:STANDARD
DTSTART:20251026T020000
TZOFFSETFROM:+0200
TZOFFSETTO:+0100
TZNAME:CET
END:STANDARD
END:VTIMEZONE
END:VCALENDAR