BEGIN:VCALENDAR
VERSION:2.0
PRODID:-//wp-events-plugin.com//7.2.2.3//EN
BEGIN:VEVENT
UID:1583@alte-werkstatt.org
DTSTART;TZID=Europe/Vienna:20170130T083000
DTEND;TZID=Europe/Vienna:20170130T100000
DTSTAMP:20160728T182416Z
URL:http://www.alte-werkstatt.org/veranstaltungen/petra-trainiert-3-2017-0
 1-30/
SUMMARY:Petra trainiert
DESCRIPTION:08:30 - 10:00\ngeschlossene Veranstaltung
CATEGORIES:Maresch Petra
END:VEVENT
BEGIN:VTIMEZONE
TZID:Europe/Vienna
X-LIC-LOCATION:Europe/Vienna
BEGIN:STANDARD
DTSTART:20161030T020000
TZOFFSETFROM:+0200
TZOFFSETTO:+0100
TZNAME:CET
END:STANDARD
END:VTIMEZONE
END:VCALENDAR