BEGIN:VCALENDAR
VERSION:2.0
PRODID:-//wp-events-plugin.com//7.2.2.3//EN
BEGIN:VEVENT
UID:1563@alte-werkstatt.org
DTSTART;TZID=Europe/Vienna:20160912T083000
DTEND;TZID=Europe/Vienna:20160912T100000
DTSTAMP:20160728T182416Z
URL:http://www.alte-werkstatt.org/veranstaltungen/petra-trainiert-3-2016-0
 9-12/
SUMMARY:Petra trainiert
DESCRIPTION:08:30 - 10:00\ngeschlossene Veranstaltung
CATEGORIES:Maresch Petra
END:VEVENT
BEGIN:VTIMEZONE
TZID:Europe/Vienna
X-LIC-LOCATION:Europe/Vienna
BEGIN:DAYLIGHT
DTSTART:20160327T030000
TZOFFSETFROM:+0100
TZOFFSETTO:+0200
TZNAME:CEST
END:DAYLIGHT
END:VTIMEZONE
END:VCALENDAR