BEGIN:VCALENDAR
VERSION:2.0
PRODID:-//wp-events-plugin.com//7.2.2.3//EN
BEGIN:VEVENT
UID:11201@alte-werkstatt.org
DTSTART:20260320T133000Z
DTEND:20260320T153000Z
DTSTAMP:20260312T133400Z
URL:http://www.alte-werkstatt.org/veranstaltungen/performance-project-7/
SUMMARY:Performance Project
DESCRIPTION:15:30 - 17:30
CATEGORIES:Parzer Sabine
END:VEVENT
END:VCALENDAR