BEGIN:VCALENDAR
VERSION:2.0
PRODID:-//wp-events-plugin.com//7.2.2.3//EN
BEGIN:VEVENT
UID:8584@alte-werkstatt.org
DTSTART;TZID=Europe/Vienna:20240119T183000
DTEND;TZID=Europe/Vienna:20240119T203000
DTSTAMP:20231207T093229Z
URL:http://www.alte-werkstatt.org/veranstaltungen/offene-bewegungseinheit-
 2/
SUMMARY:Offene Bewegungseinheit
DESCRIPTION:18:30 - 20:30
CATEGORIES:Diverse
END:VEVENT
BEGIN:VTIMEZONE
TZID:Europe/Vienna
X-LIC-LOCATION:Europe/Vienna
BEGIN:STANDARD
DTSTART:20231029T020000
TZOFFSETFROM:+0200
TZOFFSETTO:+0100
TZNAME:CET
END:STANDARD
END:VTIMEZONE
END:VCALENDAR