BEGIN:VCALENDAR
VERSION:2.0
PRODID:-//wp-events-plugin.com//7.2.2.3//EN
BEGIN:VEVENT
UID:2076@alte-werkstatt.org
DTSTART;TZID=Europe/Vienna:20170110T170000
DTEND;TZID=Europe/Vienna:20170110T180000
DTSTAMP:20160902T152244Z
URL:http://www.alte-werkstatt.org/veranstaltungen/nia-special-4-2017-01-10
 /
SUMMARY:Nia Special
DESCRIPTION:17:00 - 18:00\n...für Menschen mit besonderen Bedürfnissen\; 
 geschlossene Veranstaltung
CATEGORIES:Maresch Petra
END:VEVENT
BEGIN:VTIMEZONE
TZID:Europe/Vienna
X-LIC-LOCATION:Europe/Vienna
BEGIN:STANDARD
DTSTART:20161030T020000
TZOFFSETFROM:+0200
TZOFFSETTO:+0100
TZNAME:CET
END:STANDARD
END:VTIMEZONE
END:VCALENDAR