BEGIN:VCALENDAR
VERSION:2.0
PRODID:-//wp-events-plugin.com//7.2.2.3//EN
BEGIN:VEVENT
UID:2069@alte-werkstatt.org
DTSTART;TZID=Europe/Vienna:20161108T170000
DTEND;TZID=Europe/Vienna:20161108T180000
DTSTAMP:20160902T151916Z
URL:http://www.alte-werkstatt.org/veranstaltungen/nia-special-3-2016-11-08
 /
SUMMARY:Nia Special
DESCRIPTION:17:00 - 18:00\n...für Menschen mit besonderen Bedürfnissen\; 
 geschlossene Veranstaltung
CATEGORIES:Maresch Petra
END:VEVENT
BEGIN:VTIMEZONE
TZID:Europe/Vienna
X-LIC-LOCATION:Europe/Vienna
BEGIN:STANDARD
DTSTART:20161030T020000
TZOFFSETFROM:+0200
TZOFFSETTO:+0100
TZNAME:CET
END:STANDARD
END:VTIMEZONE
END:VCALENDAR