BEGIN:VCALENDAR
VERSION:2.0
PRODID:-//wp-events-plugin.com//7.2.2.3//EN
BEGIN:VEVENT
UID:2067@alte-werkstatt.org
DTSTART;TZID=Europe/Vienna:20161025T170000
DTEND;TZID=Europe/Vienna:20161025T180000
DTSTAMP:20160902T151534Z
URL:http://www.alte-werkstatt.org/veranstaltungen/nia-special-2-2016-10-25
 /
SUMMARY:Nia Special
DESCRIPTION:17:00 - 18:00\n...für Menschen mit besonderen Bedürfnissen\; 
 geschlossene Veranstaltung
CATEGORIES:Maresch Petra
END:VEVENT
BEGIN:VTIMEZONE
TZID:Europe/Vienna
X-LIC-LOCATION:Europe/Vienna
BEGIN:DAYLIGHT
DTSTART:20160327T030000
TZOFFSETFROM:+0100
TZOFFSETTO:+0200
TZNAME:CEST
END:DAYLIGHT
END:VTIMEZONE
END:VCALENDAR