BEGIN:VCALENDAR
VERSION:2.0
PRODID:-//wp-events-plugin.com//7.2.2.3//EN
BEGIN:VEVENT
UID:1672@alte-werkstatt.org
DTSTART;TZID=Europe/Vienna:20160908T083000
DTEND;TZID=Europe/Vienna:20160908T093000
DTSTAMP:20160729T234343Z
URL:http://www.alte-werkstatt.org/veranstaltungen/nia-7-2016-09-08/
SUMMARY:Nia
DESCRIPTION:08:30 - 09:30\nDance Cardio Workout
CATEGORIES:Maresch Petra
END:VEVENT
BEGIN:VTIMEZONE
TZID:Europe/Vienna
X-LIC-LOCATION:Europe/Vienna
BEGIN:DAYLIGHT
DTSTART:20160327T030000
TZOFFSETFROM:+0100
TZOFFSETTO:+0200
TZNAME:CEST
END:DAYLIGHT
END:VTIMEZONE
END:VCALENDAR