BEGIN:VCALENDAR
VERSION:2.0
PRODID:-//wp-events-plugin.com//7.2.2.3//EN
BEGIN:VEVENT
UID:1737@alte-werkstatt.org
DTSTART;TZID=Europe/Vienna:20170131T183000
DTEND;TZID=Europe/Vienna:20170131T193000
DTSTAMP:20160729T234525Z
URL:http://www.alte-werkstatt.org/veranstaltungen/nia-6-2017-01-31/
SUMMARY:Nia
DESCRIPTION:18:30 - 19:30\nDance Cardio Workout
CATEGORIES:Maresch Petra
END:VEVENT
BEGIN:VTIMEZONE
TZID:Europe/Vienna
X-LIC-LOCATION:Europe/Vienna
BEGIN:STANDARD
DTSTART:20161030T020000
TZOFFSETFROM:+0200
TZOFFSETTO:+0100
TZNAME:CET
END:STANDARD
END:VTIMEZONE
END:VCALENDAR