BEGIN:VCALENDAR
VERSION:2.0
PRODID:-//wp-events-plugin.com//7.2.2.3//EN
BEGIN:VEVENT
UID:1716@alte-werkstatt.org
DTSTART;TZID=Europe/Vienna:20160906T183000
DTEND;TZID=Europe/Vienna:20160906T193000
DTSTAMP:20160729T234525Z
URL:http://www.alte-werkstatt.org/veranstaltungen/nia-6-2016-09-06/
SUMMARY:Nia
DESCRIPTION:18:30 - 19:30\nDance Cardio Workout
CATEGORIES:Maresch Petra
END:VEVENT
BEGIN:VTIMEZONE
TZID:Europe/Vienna
X-LIC-LOCATION:Europe/Vienna
BEGIN:DAYLIGHT
DTSTART:20160327T030000
TZOFFSETFROM:+0100
TZOFFSETTO:+0200
TZNAME:CEST
END:DAYLIGHT
END:VTIMEZONE
END:VCALENDAR