BEGIN:VCALENDAR
VERSION:2.0
PRODID:-//wp-events-plugin.com//7.2.2.3//EN
BEGIN:VEVENT
UID:2794@alte-werkstatt.org
DTSTART;TZID=Europe/Vienna:20170714T200000
DTEND;TZID=Europe/Vienna:20170716T140000
DTSTAMP:20170704T174927Z
URL:http://www.alte-werkstatt.org/veranstaltungen/naya-lisa-machen-urlaub/
SUMMARY:N. + L. machen Urlaub
DESCRIPTION:Fr 20:00 - So 14:00\ngeschlossene Veranstaltung
CATEGORIES:Maresch Petra
END:VEVENT
BEGIN:VTIMEZONE
TZID:Europe/Vienna
X-LIC-LOCATION:Europe/Vienna
BEGIN:DAYLIGHT
DTSTART:20170326T030000
TZOFFSETFROM:+0100
TZOFFSETTO:+0200
TZNAME:CEST
END:DAYLIGHT
END:VTIMEZONE
END:VCALENDAR