BEGIN:VCALENDAR
VERSION:2.0
PRODID:-//wp-events-plugin.com//7.2.2.3//EN
BEGIN:VEVENT
UID:2022@alte-werkstatt.org
DTSTART;TZID=Europe/Vienna:20161007T090000
DTEND;TZID=Europe/Vienna:20161007T101500
DTSTAMP:20160830T085351Z
URL:http://www.alte-werkstatt.org/veranstaltungen/meditation-und-mehr-2-20
 16-10-07/
SUMMARY:Meditation und mehr
DESCRIPTION:09:00 - 10:15\nDich der Stille in Dir zuwenden
CATEGORIES:Täuber Tanja, Mag.a
END:VEVENT
BEGIN:VTIMEZONE
TZID:Europe/Vienna
X-LIC-LOCATION:Europe/Vienna
BEGIN:DAYLIGHT
DTSTART:20160327T030000
TZOFFSETFROM:+0100
TZOFFSETTO:+0200
TZNAME:CEST
END:DAYLIGHT
END:VTIMEZONE
END:VCALENDAR