BEGIN:VCALENDAR
VERSION:2.0
PRODID:-//wp-events-plugin.com//7.2.2.3//EN
BEGIN:VEVENT
UID:8250@alte-werkstatt.org
DTSTART;TZID=Europe/Vienna:20231013T170000
DTEND;TZID=Europe/Vienna:20231013T210000
DTSTAMP:20230922T081533Z
URL:http://www.alte-werkstatt.org/veranstaltungen/mal-atelier-dein-raum-de
 r-moeglichkeiten/
SUMMARY:Dein Raum der Möglichkeiten - Freiheit
DESCRIPTION:17:00 - 21:00
CATEGORIES:Diverse
END:VEVENT
BEGIN:VTIMEZONE
TZID:Europe/Vienna
X-LIC-LOCATION:Europe/Vienna
BEGIN:DAYLIGHT
DTSTART:20230326T030000
TZOFFSETFROM:+0100
TZOFFSETTO:+0200
TZNAME:CEST
END:DAYLIGHT
END:VTIMEZONE
END:VCALENDAR