BEGIN:VCALENDAR
VERSION:2.0
PRODID:-//wp-events-plugin.com//7.2.2.3//EN
BEGIN:VEVENT
UID:8296@alte-werkstatt.org
DTSTART;TZID=Europe/Vienna:20231104T133000
DTEND;TZID=Europe/Vienna:20231104T173000
DTSTAMP:20230911T100949Z
URL:http://www.alte-werkstatt.org/veranstaltungen/mal-atelier-dein-raum-de
 r-moeglichkeiten-3/
SUMMARY:Bewegte Kreativität: Tanz trifft Farbe
DESCRIPTION:13:30 - 17:30
CATEGORIES:Diverse
END:VEVENT
BEGIN:VTIMEZONE
TZID:Europe/Vienna
X-LIC-LOCATION:Europe/Vienna
BEGIN:STANDARD
DTSTART:20231029T020000
TZOFFSETFROM:+0200
TZOFFSETTO:+0100
TZNAME:CET
END:STANDARD
END:VTIMEZONE
END:VCALENDAR