BEGIN:VCALENDAR
VERSION:2.0
PRODID:-//wp-events-plugin.com//7.2.2.3//EN
BEGIN:VEVENT
UID:8251@alte-werkstatt.org
DTSTART;TZID=Europe/Vienna:20240121T130000
DTEND;TZID=Europe/Vienna:20240121T180000
DTSTAMP:20240104T105619Z
URL:http://www.alte-werkstatt.org/veranstaltungen/mal-atelier-dein-raum-de
 r-moeglichkeiten-2/
SUMMARY:Dein Raum der Möglichkeiten "BEGIN AGAIN"
DESCRIPTION:13:00 - 18:00
CATEGORIES:Diverse
END:VEVENT
BEGIN:VTIMEZONE
TZID:Europe/Vienna
X-LIC-LOCATION:Europe/Vienna
BEGIN:STANDARD
DTSTART:20231029T020000
TZOFFSETFROM:+0200
TZOFFSETTO:+0100
TZNAME:CET
END:STANDARD
END:VTIMEZONE
END:VCALENDAR