BEGIN:VCALENDAR
VERSION:2.0
PRODID:-//wp-events-plugin.com//7.2.2.3//EN
BEGIN:VEVENT
UID:11104@alte-werkstatt.org
DTSTART;TZID=Europe/Vienna;VALUE=DATE:20270626
DTEND;TZID=Europe/Vienna;VALUE=DATE:20270627
DTSTAMP:20260202T120817Z
URL:http://www.alte-werkstatt.org/veranstaltungen/m-a-c-college-60/
SUMMARY:M.A.C. College
DESCRIPTION:Multimodale Kunsttherapie\n\nKontakt: Mag. Alexander Eggenhofer
  / +43 676 511 90 97 / office@kunsttherapiecollege.at\, office@multimodal-
 arts.college\n\nNähere Informationen unter www.multimodal-arts.college
CATEGORIES:Eggenhofer Alexander
END:VEVENT
BEGIN:VTIMEZONE
TZID:Europe/Vienna
X-LIC-LOCATION:Europe/Vienna
BEGIN:DAYLIGHT
DTSTART:20270328T030000
TZOFFSETFROM:+0100
TZOFFSETTO:+0200
TZNAME:CEST
END:DAYLIGHT
END:VTIMEZONE
END:VCALENDAR