BEGIN:VCALENDAR
VERSION:2.0
PRODID:-//wp-events-plugin.com//7.2.2.3//EN
BEGIN:VEVENT
UID:11102@alte-werkstatt.org
DTSTART;TZID=Europe/Vienna:20270611T140000
DTEND;TZID=Europe/Vienna:20270613T173000
DTSTAMP:20260202T120600Z
URL:http://www.alte-werkstatt.org/veranstaltungen/m-a-c-college-58/
SUMMARY:M.A.C. College
DESCRIPTION:Fr 14:00 - 21:00\nSa 09:00 - 18:30\nSo 09:00 - 17:30
CATEGORIES:Eggenhofer Alexander
END:VEVENT
BEGIN:VTIMEZONE
TZID:Europe/Vienna
X-LIC-LOCATION:Europe/Vienna
BEGIN:DAYLIGHT
DTSTART:20270328T030000
TZOFFSETFROM:+0100
TZOFFSETTO:+0200
TZNAME:CEST
END:DAYLIGHT
END:VTIMEZONE
END:VCALENDAR