BEGIN:VCALENDAR
VERSION:2.0
PRODID:-//wp-events-plugin.com//7.2.2.3//EN
BEGIN:VEVENT
UID:11095@alte-werkstatt.org
DTSTART;TZID=Europe/Vienna;VALUE=DATE:20270417
DTEND;TZID=Europe/Vienna;VALUE=DATE:20270419
DTSTAMP:20260202T115403Z
URL:http://www.alte-werkstatt.org/veranstaltungen/m-a-c-college-51/
SUMMARY:M.A.C. College
DESCRIPTION:Sa 09:00 - 18:30\nSo 09:00 - 17:30
CATEGORIES:Eggenhofer Alexander
END:VEVENT
BEGIN:VTIMEZONE
TZID:Europe/Vienna
X-LIC-LOCATION:Europe/Vienna
BEGIN:DAYLIGHT
DTSTART:20270328T030000
TZOFFSETFROM:+0100
TZOFFSETTO:+0200
TZNAME:CEST
END:DAYLIGHT
END:VTIMEZONE
END:VCALENDAR