BEGIN:VCALENDAR
VERSION:2.0
PRODID:-//wp-events-plugin.com//7.2.2.3//EN
BEGIN:VEVENT
UID:11092@alte-werkstatt.org
DTSTART;TZID=Europe/Vienna;VALUE=DATE:20270306
DTEND;TZID=Europe/Vienna;VALUE=DATE:20270308
DTSTAMP:20260202T114826Z
URL:http://www.alte-werkstatt.org/veranstaltungen/m-a-c-college-48/
SUMMARY:M.A.C. College
DESCRIPTION:Sa 09:00 - 18:30\nSo 09:00 - 17:30
CATEGORIES:Eggenhofer Alexander
END:VEVENT
BEGIN:VTIMEZONE
TZID:Europe/Vienna
X-LIC-LOCATION:Europe/Vienna
BEGIN:STANDARD
DTSTART:20261025T020000
TZOFFSETFROM:+0200
TZOFFSETTO:+0100
TZNAME:CET
END:STANDARD
END:VTIMEZONE
END:VCALENDAR