BEGIN:VCALENDAR
VERSION:2.0
PRODID:-//wp-events-plugin.com//7.2.2.3//EN
BEGIN:VEVENT
UID:11088@alte-werkstatt.org
DTSTART;TZID=Europe/Vienna:20270115T101500
DTEND;TZID=Europe/Vienna:20270117T180000
DTSTAMP:20260203T151112Z
URL:http://www.alte-werkstatt.org/veranstaltungen/m-a-c-college-44/
SUMMARY:M.A.C. College
DESCRIPTION:Fr 10:15 - 19:15 \nSa+So jeweils 09:00 - 18:00
CATEGORIES:Eggenhofer Alexander
END:VEVENT
BEGIN:VTIMEZONE
TZID:Europe/Vienna
X-LIC-LOCATION:Europe/Vienna
BEGIN:STANDARD
DTSTART:20261025T020000
TZOFFSETFROM:+0200
TZOFFSETTO:+0100
TZNAME:CET
END:STANDARD
END:VTIMEZONE
END:VCALENDAR