BEGIN:VCALENDAR
VERSION:2.0
PRODID:-//wp-events-plugin.com//7.2.2.3//EN
BEGIN:VEVENT
UID:11223@alte-werkstatt.org
DTSTART:20260522T080000Z
DTEND:20260522T084500Z
DTSTAMP:20260416T061433Z
URL:http://www.alte-werkstatt.org/veranstaltungen/lesung-im-garten/
SUMMARY:Lesung im Garten
DESCRIPTION:10:00 - 10:45
CATEGORIES:Tscherni Sascha
END:VEVENT
END:VCALENDAR