BEGIN:VCALENDAR
VERSION:2.0
PRODID:-//wp-events-plugin.com//7.2.2.3//EN
BEGIN:VEVENT
UID:9416@alte-werkstatt.org
DTSTART;TZID=Europe/Vienna:20240912T160000
DTEND;TZID=Europe/Vienna:20240912T170000
DTSTAMP:20240719T123729Z
URL:http://www.alte-werkstatt.org/veranstaltungen/kung-fu-lev-2-6-12-j-9-2
 024-09-12/
SUMMARY:Kung Fu\, Lev. 2 (6-12 J.)
DESCRIPTION:16:00 - 17:00\nDie Kampfkunst der Shaolin Mönche\, unterrichte
 t für Kinder im Alter von 6 - 12 Jahren / Level 2.
CATEGORIES:Pfaffenberger Marc
END:VEVENT
BEGIN:VTIMEZONE
TZID:Europe/Vienna
X-LIC-LOCATION:Europe/Vienna
BEGIN:DAYLIGHT
DTSTART:20240331T030000
TZOFFSETFROM:+0100
TZOFFSETTO:+0200
TZNAME:CEST
END:DAYLIGHT
END:VTIMEZONE
END:VCALENDAR