BEGIN:VCALENDAR
VERSION:2.0
PRODID:-//wp-events-plugin.com//7.2.2.3//EN
BEGIN:VEVENT
UID:8336@alte-werkstatt.org
DTSTART;TZID=Europe/Vienna:20240111T160000
DTEND;TZID=Europe/Vienna:20240111T170000
DTSTAMP:20230818T073036Z
URL:http://www.alte-werkstatt.org/veranstaltungen/kung-fu-lev-2-6-12-j-7-2
 024-01-11/
SUMMARY:Kung Fu\, Lev. 2 (6-12 J.)
DESCRIPTION:16:00 - 17:00\nDie Kampfkunst der Shaolin Mönche\, unterrichte
 t für Kinder im Alter von 6 - 12 Jahren / Level 2.
CATEGORIES:Pfaffenberger Marc
END:VEVENT
BEGIN:VTIMEZONE
TZID:Europe/Vienna
X-LIC-LOCATION:Europe/Vienna
BEGIN:STANDARD
DTSTART:20231029T020000
TZOFFSETFROM:+0200
TZOFFSETTO:+0100
TZNAME:CET
END:STANDARD
END:VTIMEZONE
END:VCALENDAR