BEGIN:VCALENDAR
VERSION:2.0
PRODID:-//wp-events-plugin.com//7.2.2.3//EN
BEGIN:VEVENT
UID:8326@alte-werkstatt.org
DTSTART;TZID=Europe/Vienna:20231019T160000
DTEND;TZID=Europe/Vienna:20231019T170000
DTSTAMP:20230818T072942Z
URL:http://www.alte-werkstatt.org/veranstaltungen/kung-fu-lev-2-6-12-j-5-2
 023-10-19/
SUMMARY:Kung Fu\, Lev. 2 (6-12 J.)
DESCRIPTION:16:00 - 17:00\nDie Kampfkunst der Shaolin Mönche\, unterrichte
 t für Kinder im Alter von 6 - 12 Jahren / Level 2.
CATEGORIES:Pfaffenberger Marc
END:VEVENT
BEGIN:VTIMEZONE
TZID:Europe/Vienna
X-LIC-LOCATION:Europe/Vienna
BEGIN:DAYLIGHT
DTSTART:20230326T030000
TZOFFSETFROM:+0100
TZOFFSETTO:+0200
TZNAME:CEST
END:DAYLIGHT
END:VTIMEZONE
END:VCALENDAR