BEGIN:VCALENDAR
VERSION:2.0
PRODID:-//wp-events-plugin.com//7.2.2.3//EN
BEGIN:VEVENT
UID:11154@alte-werkstatt.org
DTSTART:20260618T140000Z
DTEND:20260618T150000Z
DTSTAMP:20260206T115552Z
URL:http://www.alte-werkstatt.org/veranstaltungen/kung-fu-lev-2-6-12-j-18-
 2026-06-18/
SUMMARY:Kung Fu\, Lev. 2 (6-12 J.)
DESCRIPTION:16:00 - 17:00
CATEGORIES:Pfaffenberger Marc
END:VEVENT
END:VCALENDAR