BEGIN:VCALENDAR
VERSION:2.0
PRODID:-//wp-events-plugin.com//7.2.2.3//EN
BEGIN:VEVENT
UID:11137@alte-werkstatt.org
DTSTART:20260212T140000Z
DTEND:20260212T150000Z
DTSTAMP:20260206T115517Z
URL:http://www.alte-werkstatt.org/veranstaltungen/kung-fu-lev-2-6-12-j-16-
 2026-02-12/
SUMMARY:Kung Fu\, Lev. 2 (6-12 J.)
DESCRIPTION:16:00 - 17:00
CATEGORIES:Pfaffenberger Marc
END:VEVENT
END:VCALENDAR