BEGIN:VCALENDAR
VERSION:2.0
PRODID:-//wp-events-plugin.com//7.2.2.3//EN
BEGIN:VEVENT
UID:9436@alte-werkstatt.org
DTSTART;TZID=Europe/Vienna:20240905T170000
DTEND;TZID=Europe/Vienna:20240905T180000
DTSTAMP:20240719T123850Z
URL:http://www.alte-werkstatt.org/veranstaltungen/kung-fu-lev-1-ab-13-j-9-
 2024-09-05/
SUMMARY:Kung Fu\, Lev. 1 (ab 13 J.)
DESCRIPTION:17:00 - 18:00\nDie Kampfkunst der Shaolin Mönche\, unterrichte
 t für Kinder ab 13 Jahren / Level 1.
CATEGORIES:Pfaffenberger Marc
END:VEVENT
BEGIN:VTIMEZONE
TZID:Europe/Vienna
X-LIC-LOCATION:Europe/Vienna
BEGIN:DAYLIGHT
DTSTART:20240331T030000
TZOFFSETFROM:+0100
TZOFFSETTO:+0200
TZNAME:CEST
END:DAYLIGHT
END:VTIMEZONE
END:VCALENDAR