BEGIN:VCALENDAR
VERSION:2.0
PRODID:-//wp-events-plugin.com//7.2.2.3//EN
BEGIN:VEVENT
UID:11191@alte-werkstatt.org
DTSTART:20260618T150000Z
DTEND:20260618T160000Z
DTSTAMP:20260206T145720Z
URL:http://www.alte-werkstatt.org/veranstaltungen/kung-fu-lev-1-ab-13-j-18
 -2026-06-11-2026-06-18/
SUMMARY:Kung Fu\, Lev. 1 (ab 13 J.)
DESCRIPTION:17:00 - 18:00
CATEGORIES:Pfaffenberger Marc
END:VEVENT
END:VCALENDAR