BEGIN:VCALENDAR
VERSION:2.0
PRODID:-//wp-events-plugin.com//7.2.2.3//EN
BEGIN:VEVENT
UID:11185@alte-werkstatt.org
DTSTART:20260430T150000Z
DTEND:20260430T160000Z
DTSTAMP:20260206T115927Z
URL:http://www.alte-werkstatt.org/veranstaltungen/kung-fu-lev-1-ab-13-j-17
 -2026-04-09-2026-04-16-2026-04-23-2026-04-30/
SUMMARY:Kung Fu\, Lev. 1 (ab 13 J.)
DESCRIPTION:17:00 - 18:00
CATEGORIES:Pfaffenberger Marc
END:VEVENT
END:VCALENDAR