BEGIN:VCALENDAR
VERSION:2.0
PRODID:-//wp-events-plugin.com//7.2.2.3//EN
BEGIN:VEVENT
UID:9413@alte-werkstatt.org
DTSTART;TZID=Europe/Vienna:20250130T150000
DTEND;TZID=Europe/Vienna:20250130T160000
DTSTAMP:20250122T184125Z
URL:http://www.alte-werkstatt.org/veranstaltungen/kung-fu-lev-1-6-12-j-8-2
 025-01-23/
SUMMARY:Kung Fu\, Lev. 1 (6-12 J.)
DESCRIPTION:15:00 - 16:00\nDie Kampfkunst der Shaolin Mönche\, unterrichte
 t für Kinder im Alter von 6 - 12 Jahren / Level 1.
CATEGORIES:Pfaffenberger Marc
END:VEVENT
BEGIN:VTIMEZONE
TZID:Europe/Vienna
X-LIC-LOCATION:Europe/Vienna
BEGIN:STANDARD
DTSTART:20241027T020000
TZOFFSETFROM:+0200
TZOFFSETTO:+0100
TZNAME:CET
END:STANDARD
END:VTIMEZONE
END:VCALENDAR