BEGIN:VCALENDAR
VERSION:2.0
PRODID:-//wp-events-plugin.com//7.2.2.3//EN
BEGIN:VEVENT
UID:11134@alte-werkstatt.org
DTSTART:20260618T130000Z
DTEND:20260618T140000Z
DTSTAMP:20260206T113340Z
URL:http://www.alte-werkstatt.org/veranstaltungen/kung-fu-lev-1-6-12-j-17-
 2026-06-11-2026-06-18/
SUMMARY:Kung Fu\, Lev. 1 (6-12 J.)
DESCRIPTION:15:00 - 16:00
CATEGORIES:Pfaffenberger Marc
END:VEVENT
END:VCALENDAR