BEGIN:VCALENDAR
VERSION:2.0
PRODID:-//wp-events-plugin.com//7.2.2.3//EN
BEGIN:VEVENT
UID:11131@alte-werkstatt.org
DTSTART:20260521T130000Z
DTEND:20260521T140000Z
DTSTAMP:20260206T113259Z
URL:http://www.alte-werkstatt.org/veranstaltungen/kung-fu-lev-1-6-12-j-16-
 2026-04-09-2026-04-16-2026-04-23-2026-04-30-2026-05-07-2026-05-14-2026-05-
 21/
SUMMARY:Kung Fu\, Lev. 1 (6-12 J.)
DESCRIPTION:15:00 - 16:00
CATEGORIES:Pfaffenberger Marc
END:VEVENT
END:VCALENDAR