BEGIN:VCALENDAR
VERSION:2.0
PRODID:-//wp-events-plugin.com//7.2.2.3//EN
BEGIN:VEVENT
UID:11117@alte-werkstatt.org
DTSTART:20260212T130000Z
DTEND:20260212T140000Z
DTSTAMP:20260206T113150Z
URL:http://www.alte-werkstatt.org/veranstaltungen/kung-fu-lev-1-6-12-j-15-
 2026-02-12/
SUMMARY:Kung Fu\, Lev. 1 (6-12 J.)
DESCRIPTION:15:00 - 16:00
CATEGORIES:Pfaffenberger Marc
END:VEVENT
END:VCALENDAR