BEGIN:VCALENDAR
VERSION:2.0
PRODID:-//wp-events-plugin.com//7.2.2.3//EN
BEGIN:VEVENT
UID:10514@alte-werkstatt.org
DTSTART;TZID=Europe/Vienna:20251104T160000
DTEND;TZID=Europe/Vienna:20251104T170000
DTSTAMP:20250715T074414Z
URL:http://www.alte-werkstatt.org/veranstaltungen/kreativer-kindertanz-mid
 is-6-9-jahre-19-2025-11-04/
SUMMARY:Kreativer Kindertanz Midis (6 - 9 Jahre)
DESCRIPTION:16:00 - 17:00\nHat Ihr Kind auch Spaß daran\, sich zu bewegen 
 und sich als kleine(r) TänzerIn zu entdecken?
CATEGORIES:Hermann Ivanka
END:VEVENT
BEGIN:VTIMEZONE
TZID:Europe/Vienna
X-LIC-LOCATION:Europe/Vienna
BEGIN:STANDARD
DTSTART:20251026T020000
TZOFFSETFROM:+0200
TZOFFSETTO:+0100
TZNAME:CET
END:STANDARD
END:VTIMEZONE
END:VCALENDAR