BEGIN:VCALENDAR
VERSION:2.0
PRODID:-//wp-events-plugin.com//7.2.2.3//EN
BEGIN:VEVENT
UID:10509@alte-werkstatt.org
DTSTART;TZID=Europe/Vienna:20250930T160000
DTEND;TZID=Europe/Vienna:20250930T170000
DTSTAMP:20250715T074257Z
URL:http://www.alte-werkstatt.org/veranstaltungen/kreativer-kindertanz-mid
 is-6-9-jahre-18-2025-09-30/
SUMMARY:Kreativer Kindertanz Midis (6 - 9 Jahre)
DESCRIPTION:16:00 - 17:00\nHat Ihr Kind auch Spaß daran\, sich zu bewegen 
 und sich als kleine(r) TänzerIn zu entdecken?
CATEGORIES:Hermann Ivanka
END:VEVENT
BEGIN:VTIMEZONE
TZID:Europe/Vienna
X-LIC-LOCATION:Europe/Vienna
BEGIN:DAYLIGHT
DTSTART:20250330T030000
TZOFFSETFROM:+0100
TZOFFSETTO:+0200
TZNAME:CEST
END:DAYLIGHT
END:VTIMEZONE
END:VCALENDAR